BEGIN:VCALENDAR
VERSION:2.0
PRODID:-//Львівський Національний Академічний театр опери та балету - ECPv6.2.3//NONSGML v1.0//EN
CALSCALE:GREGORIAN
METHOD:PUBLISH
X-ORIGINAL-URL:https://opera.lviv.ua
X-WR-CALDESC:Події за Львівський Національний Академічний театр опери та балету
REFRESH-INTERVAL;VALUE=DURATION:PT1H
X-Robots-Tag:noindex
X-PUBLISHED-TTL:PT1H
BEGIN:VTIMEZONE
TZID:Europe/Kiev
BEGIN:DAYLIGHT
TZOFFSETFROM:+0200
TZOFFSETTO:+0300
TZNAME:EEST
DTSTART:20260329T010000
END:DAYLIGHT
BEGIN:STANDARD
TZOFFSETFROM:+0300
TZOFFSETTO:+0200
TZNAME:EET
DTSTART:20261025T010000
END:STANDARD
END:VTIMEZONE
BEGIN:VEVENT
DTSTART;TZID=Europe/Kiev:20260312T190000
DTEND;TZID=Europe/Kiev:20260312T200000
DTSTAMP:20260423T152904
CREATED:20260306T160402Z
LAST-MODIFIED:20260306T160451Z
UID:10004597-1773342000-1773345600@opera.lviv.ua
SUMMARY:Європейські музичні зустрічі
DESCRIPTION:
URL:https://opera.lviv.ua/event/yevropeyski-muzychni-zustrichi-u-lvovi/
CATEGORIES:Музичний салон
END:VEVENT
END:VCALENDAR