BEGIN:VCALENDAR
VERSION:2.0
PRODID:-//Львівський Національний Академічний театр опери та балету - ECPv6.2.3//NONSGML v1.0//EN
CALSCALE:GREGORIAN
METHOD:PUBLISH
X-ORIGINAL-URL:https://opera.lviv.ua
X-WR-CALDESC:Події за Львівський Національний Академічний театр опери та балету
REFRESH-INTERVAL;VALUE=DURATION:PT1H
X-Robots-Tag:noindex
X-PUBLISHED-TTL:PT1H
BEGIN:VTIMEZONE
TZID:Europe/Kiev
BEGIN:DAYLIGHT
TZOFFSETFROM:+0200
TZOFFSETTO:+0300
TZNAME:EEST
DTSTART:20250330T010000
END:DAYLIGHT
BEGIN:STANDARD
TZOFFSETFROM:+0300
TZOFFSETTO:+0200
TZNAME:EET
DTSTART:20251026T010000
END:STANDARD
BEGIN:DAYLIGHT
TZOFFSETFROM:+0200
TZOFFSETTO:+0300
TZNAME:EEST
DTSTART:20260329T010000
END:DAYLIGHT
BEGIN:STANDARD
TZOFFSETFROM:+0300
TZOFFSETTO:+0200
TZNAME:EET
DTSTART:20261025T010000
END:STANDARD
END:VTIMEZONE
BEGIN:VEVENT
DTSTART;TZID=Europe/Kiev:20250730T190000
DTEND;TZID=Europe/Kiev:20250730T210000
DTSTAMP:20260423T114202
CREATED:20250704T131446Z
LAST-MODIFIED:20250726T082657Z
UID:10003605-1753902000-1753909200@opera.lviv.ua
SUMMARY:Дзеркало | СВІТЛО
DESCRIPTION:
URL:https://opera.lviv.ua/event/dzerkalo-svitlo/
CATEGORIES:Концертна програма,Музичний салон,Фестиваль
END:VEVENT
BEGIN:VEVENT
DTSTART;TZID=Europe/Kiev:20250731T190000
DTEND;TZID=Europe/Kiev:20250731T201500
DTSTAMP:20260423T114202
CREATED:20250704T132356Z
LAST-MODIFIED:20250704T140901Z
UID:10003607-1753988400-1753992900@opera.lviv.ua
SUMMARY:Темперамент звуку | Фестиваль «Дзеркало»
DESCRIPTION:
URL:https://opera.lviv.ua/event/temperament-zvuku-festyval-dzerkalo/
CATEGORIES:Концертна програма,Фестиваль
END:VEVENT
BEGIN:VEVENT
DTSTART;TZID=Europe/Kiev:20250801T190000
DTEND;TZID=Europe/Kiev:20250801T201500
DTSTAMP:20260423T114202
CREATED:20250704T132618Z
LAST-MODIFIED:20250704T140751Z
UID:10003609-1754074800-1754079300@opera.lviv.ua
SUMMARY:Своя музика | Фестиваль «Дзеркало»
DESCRIPTION:
URL:https://opera.lviv.ua/event/svoia-muzyka-festyval-dzerkalo/
CATEGORIES:Концертна програма,Фестиваль
END:VEVENT
BEGIN:VEVENT
DTSTART;TZID=Europe/Kiev:20250802T190000
DTEND;TZID=Europe/Kiev:20250802T201500
DTSTAMP:20260423T114202
CREATED:20250704T132925Z
LAST-MODIFIED:20250704T140721Z
UID:10003610-1754161200-1754165700@opera.lviv.ua
SUMMARY:NotaBene+ друзі | Фестиваль «Дзеркало»
DESCRIPTION:
URL:https://opera.lviv.ua/event/notabene-druzi-festyval-dzerkalo/
CATEGORIES:Концертна програма,Фестиваль
END:VEVENT
BEGIN:VEVENT
DTSTART;TZID=Europe/Kiev:20250803T190000
DTEND;TZID=Europe/Kiev:20250803T201500
DTSTAMP:20260423T114202
CREATED:20250704T133102Z
LAST-MODIFIED:20250704T140454Z
UID:10003612-1754247600-1754252100@opera.lviv.ua
SUMMARY:Бах\, джас і брасс | Фестиваль «Дзеркало»
DESCRIPTION:
URL:https://opera.lviv.ua/event/bakh-dzhas-i-brass-festyval-dzerkalo/
CATEGORIES:Концертна програма,Фестиваль
END:VEVENT
BEGIN:VEVENT
DTSTART;TZID=Europe/Kiev:20250806T190000
DTEND;TZID=Europe/Kiev:20250806T201500
DTSTAMP:20260423T114202
CREATED:20250704T133055Z
LAST-MODIFIED:20250704T140624Z
UID:10003611-1754506800-1754511300@opera.lviv.ua
SUMMARY:Містична поема | Фестиваль «Дзеркало»
DESCRIPTION:
URL:https://opera.lviv.ua/event/mistychna-poema-festyval-dzerkalo/
CATEGORIES:Концертна програма,Фестиваль
END:VEVENT
BEGIN:VEVENT
DTSTART;TZID=Europe/Kiev:20250807T190000
DTEND;TZID=Europe/Kiev:20250807T201500
DTSTAMP:20260423T114202
CREATED:20250704T132608Z
LAST-MODIFIED:20250704T140822Z
UID:10003608-1754593200-1754597700@opera.lviv.ua
SUMMARY:Тут і зараз | Фестиваль «Дзеркало»
DESCRIPTION:
URL:https://opera.lviv.ua/event/tut-i-zaraz-festyval-dzerkalo/
CATEGORIES:Концертна програма,Фестиваль
END:VEVENT
BEGIN:VEVENT
DTSTART;TZID=Europe/Kiev:20250809T193000
DTEND;TZID=Europe/Kiev:20250809T204500
DTSTAMP:20260423T114202
CREATED:20250704T125845Z
LAST-MODIFIED:20250704T141120Z
UID:10003604-1754767800-1754772300@opera.lviv.ua
SUMMARY:Memento Odesa | Фестиваль «Дзеркало»
DESCRIPTION:
URL:https://opera.lviv.ua/event/264219/
CATEGORIES:Концертна програма,Фестиваль
END:VEVENT
BEGIN:VEVENT
DTSTART;TZID=Europe/Kiev:20250810T193000
DTEND;TZID=Europe/Kiev:20250810T210000
DTSTAMP:20260423T114202
CREATED:20250704T132158Z
LAST-MODIFIED:20250704T132158Z
UID:10003606-1754854200-1754859600@opera.lviv.ua
SUMMARY:Голоси історії | Закриття Міжнародного фестивалю класичної музики «Дзеркало»
DESCRIPTION:
URL:https://opera.lviv.ua/event/holosy-istorii-zakryttia-mizhnarodnoho-festyvaliu-klasychnoi-muzyky-dzerkalo/
CATEGORIES:Концертна програма,Фестиваль
END:VEVENT
BEGIN:VEVENT
DTSTART;TZID=Europe/Kiev:20251123T120000
DTEND;TZID=Europe/Kiev:20251123T140000
DTSTAMP:20260423T114202
CREATED:20251113T114245Z
LAST-MODIFIED:20251113T114257Z
UID:10004008-1763899200-1763906400@opera.lviv.ua
SUMMARY:Зглянься\, Роде
DESCRIPTION:
URL:https://opera.lviv.ua/event/zhliansia-rode/
CATEGORIES:Оренди
END:VEVENT
BEGIN:VEVENT
DTSTART;TZID=Europe/Kiev:20251231T170000
DTEND;TZID=Europe/Kiev:20251231T190000
DTSTAMP:20260423T114202
CREATED:20251227T194443Z
LAST-MODIFIED:20251227T194932Z
UID:10004150-1767200400-1767207600@opera.lviv.ua
SUMMARY:Grand gala
DESCRIPTION:
URL:https://opera.lviv.ua/event/grand-gala/
CATEGORIES:Оренди
END:VEVENT
BEGIN:VEVENT
DTSTART;TZID=Europe/Kiev:20251231T190000
DTEND;TZID=Europe/Kiev:20251231T210000
DTSTAMP:20260423T114202
CREATED:20251227T195158Z
LAST-MODIFIED:20251227T195206Z
UID:10004151-1767207600-1767214800@opera.lviv.ua
SUMMARY:Grand gala
DESCRIPTION:
URL:https://opera.lviv.ua/event/grand-gala-2/
CATEGORIES:Оренди
END:VEVENT
BEGIN:VEVENT
DTSTART;TZID=Europe/Kiev:20260104T120000
DTEND;TZID=Europe/Kiev:20260104T140000
DTSTAMP:20260423T114202
CREATED:20260102T130831Z
LAST-MODIFIED:20260102T130838Z
UID:10004172-1767528000-1767535200@opera.lviv.ua
SUMMARY:«РІЗДВЯНА МІСТЕРІЯ» У ЛЬВІВСЬКІЙ ОПЕРІ!
DESCRIPTION:
URL:https://opera.lviv.ua/event/rizdvyana-misteriya-u-lvivskiy-operi/
CATEGORIES:Оренди
END:VEVENT
BEGIN:VEVENT
DTSTART;TZID=Europe/Kiev:20260312T190000
DTEND;TZID=Europe/Kiev:20260312T200000
DTSTAMP:20260423T114202
CREATED:20260306T160402Z
LAST-MODIFIED:20260306T160451Z
UID:10004597-1773342000-1773345600@opera.lviv.ua
SUMMARY:Європейські музичні зустрічі
DESCRIPTION:
URL:https://opera.lviv.ua/event/yevropeyski-muzychni-zustrichi-u-lvovi/
CATEGORIES:Музичний салон
END:VEVENT
BEGIN:VEVENT
DTSTART;TZID=Europe/Kiev:20260414T180000
DTEND;TZID=Europe/Kiev:20260414T200000
DTSTAMP:20260423T114202
CREATED:20251227T152144Z
LAST-MODIFIED:20260206T145955Z
UID:10004110-1776189600-1776196800@opera.lviv.ua
SUMMARY:Патріот
DESCRIPTION:
URL:https://opera.lviv.ua/event/patriot/
CATEGORIES:Опера
END:VEVENT
BEGIN:VEVENT
DTSTART;TZID=Europe/Kiev:20260423T190000
DTEND;TZID=Europe/Kiev:20260423T200000
DTSTAMP:20260423T114202
CREATED:20260325T125040Z
LAST-MODIFIED:20260325T125040Z
UID:10004693-1776970800-1776974400@opera.lviv.ua
SUMMARY:Служниця-пані
DESCRIPTION:
URL:https://opera.lviv.ua/event/sluzhnytsia-pani-6/
END:VEVENT
BEGIN:VEVENT
DTSTART;TZID=Europe/Kiev:20260424T170000
DTEND;TZID=Europe/Kiev:20260424T190000
DTSTAMP:20260423T114202
CREATED:20260305T134927Z
LAST-MODIFIED:20260305T134927Z
UID:10004536-1777050000-1777057200@opera.lviv.ua
SUMMARY:Прем'єра "Тіні забутих предків"
DESCRIPTION:
URL:https://opera.lviv.ua/event/premiera-tini-zabutykh-predkiv-21/
END:VEVENT
BEGIN:VEVENT
DTSTART;TZID=Europe/Kiev:20260425T170000
DTEND;TZID=Europe/Kiev:20260425T200000
DTSTAMP:20260423T114202
CREATED:20260305T134928Z
LAST-MODIFIED:20260305T134928Z
UID:10004537-1777136400-1777147200@opera.lviv.ua
SUMMARY:Прем'єра Летюча миша
DESCRIPTION:
URL:https://opera.lviv.ua/event/premiera-letiucha-mysha-13/
END:VEVENT
BEGIN:VEVENT
DTSTART;TZID=Europe/Kiev:20260426T120000
DTEND;TZID=Europe/Kiev:20260426T140000
DTSTAMP:20260423T114202
CREATED:20260305T134919Z
LAST-MODIFIED:20260305T134919Z
UID:10004520-1777204800-1777212000@opera.lviv.ua
SUMMARY:Наталка Полтавка
DESCRIPTION:
URL:https://opera.lviv.ua/event/natalka-poltavka-22/
END:VEVENT
BEGIN:VEVENT
DTSTART;TZID=Europe/Kiev:20260426T170000
DTEND;TZID=Europe/Kiev:20260426T200000
DTSTAMP:20260423T114202
CREATED:20260305T134924Z
LAST-MODIFIED:20260305T134924Z
UID:10004527-1777222800-1777233600@opera.lviv.ua
SUMMARY:Есмеральда
DESCRIPTION:
URL:https://opera.lviv.ua/event/esmeralda-13/
END:VEVENT
BEGIN:VEVENT
DTSTART;TZID=Europe/Kiev:20260501T180000
DTEND;TZID=Europe/Kiev:20260501T200000
DTSTAMP:20260423T114202
CREATED:20260305T134914Z
LAST-MODIFIED:20260305T134914Z
UID:10004511-1777658400-1777665600@opera.lviv.ua
SUMMARY:ПРЕМ’ЄРА «МАВКА»
DESCRIPTION:
URL:https://opera.lviv.ua/event/prem-yera-mavka-10/
END:VEVENT
BEGIN:VEVENT
DTSTART;TZID=Europe/Kiev:20260502T170000
DTEND;TZID=Europe/Kiev:20260502T195000
DTSTAMP:20260423T114202
CREATED:20260305T134925Z
LAST-MODIFIED:20260305T134925Z
UID:10004530-1777741200-1777751400@opera.lviv.ua
SUMMARY:Бал - Маскарад
DESCRIPTION:
URL:https://opera.lviv.ua/event/bal-maskarad-2/
END:VEVENT
BEGIN:VEVENT
DTSTART;TZID=Europe/Kiev:20260502T200000
DTEND;TZID=Europe/Kiev:20260502T210000
DTSTAMP:20260423T114202
CREATED:20260408T085947Z
LAST-MODIFIED:20260408T085947Z
UID:10004777-1777752000-1777755600@opera.lviv.ua
SUMMARY:МУЗИЧНІ ПЕРЛИНИ
DESCRIPTION:
URL:https://opera.lviv.ua/event/muzychni-perlyny/
END:VEVENT
BEGIN:VEVENT
DTSTART;TZID=Europe/Kiev:20260503T120000
DTEND;TZID=Europe/Kiev:20260503T140000
DTSTAMP:20260423T114202
CREATED:20260305T134916Z
LAST-MODIFIED:20260305T134916Z
UID:10004515-1777809600-1777816800@opera.lviv.ua
SUMMARY:Лис Микита
DESCRIPTION:
URL:https://opera.lviv.ua/event/lys-mykyta-12/
END:VEVENT
BEGIN:VEVENT
DTSTART;TZID=Europe/Kiev:20260503T170000
DTEND;TZID=Europe/Kiev:20260503T194500
DTSTAMP:20260423T114202
CREATED:20260305T134928Z
LAST-MODIFIED:20260401T120705Z
UID:10004538-1777827600-1777837500@opera.lviv.ua
SUMMARY:"Пахіта" Л. Мінкус / "Ніч вальпургії" Ш. Гуно
DESCRIPTION:
URL:https://opera.lviv.ua/event/baiaderka-3/
CATEGORIES:Балет
END:VEVENT
BEGIN:VEVENT
DTSTART;TZID=Europe/Kiev:20260506T190000
DTEND;TZID=Europe/Kiev:20260506T200000
DTSTAMP:20260423T114202
CREATED:20260408T085948Z
LAST-MODIFIED:20260408T085948Z
UID:10004778-1778094000-1778097600@opera.lviv.ua
SUMMARY:ЗНАЙОМИЙ НЕЗНАЙОМЕЦЬ: КОНТРАБАС У ДЗЕРКАЛЬНІЙ ЗАЛІ
DESCRIPTION:
URL:https://opera.lviv.ua/event/znayomyy-neznayomets-kontrabas-u-dzerkalniy-zali/
END:VEVENT
BEGIN:VEVENT
DTSTART;TZID=Europe/Kiev:20260509T170000
DTEND;TZID=Europe/Kiev:20260509T202000
DTSTAMP:20260423T114202
CREATED:20260305T134921Z
LAST-MODIFIED:20260305T134921Z
UID:10004522-1778346000-1778358000@opera.lviv.ua
SUMMARY:Аїда
DESCRIPTION:
URL:https://opera.lviv.ua/event/aida-5/
END:VEVENT
BEGIN:VEVENT
DTSTART;TZID=Europe/Kiev:20260510T120000
DTEND;TZID=Europe/Kiev:20260510T140000
DTSTAMP:20260423T114202
CREATED:20260305T134926Z
LAST-MODIFIED:20260305T134926Z
UID:10004533-1778414400-1778421600@opera.lviv.ua
SUMMARY:Білосніжка та семеро гномів
DESCRIPTION:
URL:https://opera.lviv.ua/event/bilosnizhka-ta-semero-hnomiv-13/
END:VEVENT
BEGIN:VEVENT
DTSTART;TZID=Europe/Kiev:20260515T180000
DTEND;TZID=Europe/Kiev:20260515T200000
DTSTAMP:20260423T114202
CREATED:20260305T134918Z
LAST-MODIFIED:20260305T134918Z
UID:10004518-1778868000-1778875200@opera.lviv.ua
SUMMARY:Лілея
DESCRIPTION:
URL:https://opera.lviv.ua/event/lileia-3/
END:VEVENT
BEGIN:VEVENT
DTSTART;TZID=Europe/Kiev:20260516T170000
DTEND;TZID=Europe/Kiev:20260516T202000
DTSTAMP:20260423T114202
CREATED:20260318T111131Z
LAST-MODIFIED:20260318T111131Z
UID:10004645-1778950800-1778962800@opera.lviv.ua
SUMMARY:Кармен
DESCRIPTION:
URL:https://opera.lviv.ua/event/karmen-7/
END:VEVENT
END:VCALENDAR